BEGIN:VCALENDAR
VERSION:2.0
PRODID:-//Georgia Sheriffs&#039; Association - ECPv6.15.20//NONSGML v1.0//EN
CALSCALE:GREGORIAN
METHOD:PUBLISH
X-WR-CALNAME:Georgia Sheriffs&#039; Association
X-ORIGINAL-URL:https://georgiasheriffs.org
X-WR-CALDESC:Events for Georgia Sheriffs&#039; Association
REFRESH-INTERVAL;VALUE=DURATION:PT1H
X-Robots-Tag:noindex
X-PUBLISHED-TTL:PT1H
BEGIN:VTIMEZONE
TZID:America/New_York
BEGIN:DAYLIGHT
TZOFFSETFROM:-0500
TZOFFSETTO:-0400
TZNAME:EDT
DTSTART:20210314T070000
END:DAYLIGHT
BEGIN:STANDARD
TZOFFSETFROM:-0400
TZOFFSETTO:-0500
TZNAME:EST
DTSTART:20211107T060000
END:STANDARD
BEGIN:DAYLIGHT
TZOFFSETFROM:-0500
TZOFFSETTO:-0400
TZNAME:EDT
DTSTART:20220313T070000
END:DAYLIGHT
BEGIN:STANDARD
TZOFFSETFROM:-0400
TZOFFSETTO:-0500
TZNAME:EST
DTSTART:20221106T060000
END:STANDARD
BEGIN:DAYLIGHT
TZOFFSETFROM:-0500
TZOFFSETTO:-0400
TZNAME:EDT
DTSTART:20230312T070000
END:DAYLIGHT
BEGIN:STANDARD
TZOFFSETFROM:-0400
TZOFFSETTO:-0500
TZNAME:EST
DTSTART:20231105T060000
END:STANDARD
END:VTIMEZONE
BEGIN:VEVENT
DTSTART;TZID=America/New_York:20221017T080000
DTEND;TZID=America/New_York:20221028T170000
DTSTAMP:20260423T074818
CREATED:20220913T185507Z
LAST-MODIFIED:20240708T175951Z
UID:10000016-1665993600-1666976400@georgiasheriffs.org
SUMMARY:80/45 Hour Basic Jail Officer Course
DESCRIPTION:This mandated certification course provides basic training for jail officers.An employee supervising inmates – in any capacity – must be a certified jail officer.An online POST application MUST be completed and approved 2 days PRIOR to the class start date. \n\n\n\nQuestions? Contact Kim Slack or Bill Hallsworth at 770-914-1076. \n\n\n\n\n\n\n\n       window.bboxInit = function () {\n           bbox.showForm(‘c2508dd5-11f6-447c-9b40-21ea41471df2’);\n       };\n       (function () {\n           var e = document.createElement(‘script’); e.async = true;\n           e.src = ‘https://bbox.blackbaudhosting.com/webforms/bbox-min.js’;\n           document.getElementsByTagName(‘head’)[0].appendChild(e);\n       } ());
URL:https://georgiasheriffs.org/event/80-45-hour-basic-jail-officer-course-2/
LOCATION:Jackson County Sheriff’s Office\, 555 Stan Evans Drive\, Jefferson\, GA\, 30549\, United States
CATEGORIES:Jail Officer Training,Training
GEO:34.141476;-83.5593811
X-APPLE-STRUCTURED-LOCATION;VALUE=URI;X-ADDRESS=Jackson County Sheriff’s Office 555 Stan Evans Drive Jefferson GA 30549 United States;X-APPLE-RADIUS=500;X-TITLE=555 Stan Evans Drive:geo:-83.5593811,34.141476
END:VEVENT
END:VCALENDAR