BEGIN:VCALENDAR
VERSION:2.0
PRODID:-//Georgia Sheriffs&#039; Association - ECPv6.15.20//NONSGML v1.0//EN
CALSCALE:GREGORIAN
METHOD:PUBLISH
X-WR-CALNAME:Georgia Sheriffs&#039; Association
X-ORIGINAL-URL:https://georgiasheriffs.org
X-WR-CALDESC:Events for Georgia Sheriffs&#039; Association
REFRESH-INTERVAL;VALUE=DURATION:PT1H
X-Robots-Tag:noindex
X-PUBLISHED-TTL:PT1H
BEGIN:VTIMEZONE
TZID:America/New_York
BEGIN:DAYLIGHT
TZOFFSETFROM:-0500
TZOFFSETTO:-0400
TZNAME:EDT
DTSTART:20210314T070000
END:DAYLIGHT
BEGIN:STANDARD
TZOFFSETFROM:-0400
TZOFFSETTO:-0500
TZNAME:EST
DTSTART:20211107T060000
END:STANDARD
BEGIN:DAYLIGHT
TZOFFSETFROM:-0500
TZOFFSETTO:-0400
TZNAME:EDT
DTSTART:20220313T070000
END:DAYLIGHT
BEGIN:STANDARD
TZOFFSETFROM:-0400
TZOFFSETTO:-0500
TZNAME:EST
DTSTART:20221106T060000
END:STANDARD
BEGIN:DAYLIGHT
TZOFFSETFROM:-0500
TZOFFSETTO:-0400
TZNAME:EDT
DTSTART:20230312T070000
END:DAYLIGHT
BEGIN:STANDARD
TZOFFSETFROM:-0400
TZOFFSETTO:-0500
TZNAME:EST
DTSTART:20231105T060000
END:STANDARD
END:VTIMEZONE
BEGIN:VEVENT
DTSTART;TZID=America/New_York:20221024T080000
DTEND;TZID=America/New_York:20221104T170000
DTSTAMP:20260423T074943
CREATED:20221024T120000Z
LAST-MODIFIED:20240708T175941Z
UID:10000011-1666598400-1667581200@georgiasheriffs.org
SUMMARY:80/45 Hour Basic Jail Officer Course
DESCRIPTION:window.bboxInit = function () {\n           bbox.showForm(‘9a53347a-be1a-4adf-9b6f-758811021a36’);\n       };\n       (function () {\n           var e = document.createElement(‘script’); e.async = true;\n           e.src = ‘https://bbox.blackbaudhosting.com/webforms/bbox-min.js’;\n           document.getElementsByTagName(‘head’)[0].appendChild(e);\n       } ());
URL:https://georgiasheriffs.org/event/80-45-hour-bjoc/
LOCATION:Houston County Jail\, 203 North Perry Pkwy\, Perry\, GA\, 31069\, United States
CATEGORIES:Jail Officer Training,Training
GEO:32.469803135454;-83.700497076469
X-APPLE-STRUCTURED-LOCATION;VALUE=URI;X-ADDRESS=Houston County Jail 203 North Perry Pkwy Perry GA 31069 United States;X-APPLE-RADIUS=500;X-TITLE=203 North Perry Pkwy:geo:-83.700497076469,32.469803135454
END:VEVENT
BEGIN:VEVENT
DTSTART;TZID=America/New_York:20221102T080000
DTEND;TZID=America/New_York:20221103T170000
DTSTAMP:20260423T074943
CREATED:20220913T191157Z
LAST-MODIFIED:20240708T175950Z
UID:10000018-1667376000-1667494800@georgiasheriffs.org
SUMMARY:Senior Deputy: Advanced Report Writing
DESCRIPTION:Location\n\n\n\n\n\nContact
URL:https://georgiasheriffs.org/event/advanced-report-writing/
LOCATION:Carroll County Sheriff’s Office\, 1000 Newnan Road\, Carrollton\, GA\, 30116\, United States
CATEGORIES:Senior Deputy
GEO:33.5690194;-85.0472961
X-APPLE-STRUCTURED-LOCATION;VALUE=URI;X-ADDRESS=Carroll County Sheriff’s Office 1000 Newnan Road Carrollton GA 30116 United States;X-APPLE-RADIUS=500;X-TITLE=1000 Newnan Road:geo:-85.0472961,33.5690194
END:VEVENT
BEGIN:VEVENT
DTSTART;TZID=America/New_York:20221103T080000
DTEND;TZID=America/New_York:20221104T170000
DTSTAMP:20260423T074943
CREATED:20220913T203322Z
LAST-MODIFIED:20240708T175946Z
UID:10000035-1667462400-1667581200@georgiasheriffs.org
SUMMARY:Senior Deputy: Court Services
DESCRIPTION:Location\n\n\n\n\n\nContact
URL:https://georgiasheriffs.org/event/senior-deputy-court-services-3/
LOCATION:Telfair County Sheriff’s Office\, 19 East Oak Street\, McRae-Helena\, GA\, 31055\, United States
CATEGORIES:Senior Deputy
ORGANIZER;CN="Deputy Scott Hooks":MAILTO:tcsotrainingofficer@gmail.com
GEO:32.0671003;-82.8965706
X-APPLE-STRUCTURED-LOCATION;VALUE=URI;X-ADDRESS=Telfair County Sheriff’s Office 19 East Oak Street McRae-Helena GA 31055 United States;X-APPLE-RADIUS=500;X-TITLE=19 East Oak Street:geo:-82.8965706,32.0671003
END:VEVENT
BEGIN:VEVENT
DTSTART;TZID=America/New_York:20221103T090000
DTEND;TZID=America/New_York:20221103T130000
DTSTAMP:20260423T074943
CREATED:20220913T202505Z
LAST-MODIFIED:20240708T175947Z
UID:10000032-1667466000-1667480400@georgiasheriffs.org
SUMMARY:Senior Deputy: Crime Scene Management
DESCRIPTION:Location\n\n\n\n\n\nContact
URL:https://georgiasheriffs.org/event/senior-deputy-crime-scene-management-2/
LOCATION:Oconee County Sheriff’s Office\, 1140 Experiment Station Road\, Watkinsville\, GA\, 30677\, United States
CATEGORIES:Senior Deputy
GEO:33.8678424;-83.4146959
X-APPLE-STRUCTURED-LOCATION;VALUE=URI;X-ADDRESS=Oconee County Sheriff’s Office 1140 Experiment Station Road Watkinsville GA 30677 United States;X-APPLE-RADIUS=500;X-TITLE=1140 Experiment Station Road:geo:-83.4146959,33.8678424
END:VEVENT
END:VCALENDAR