BEGIN:VCALENDAR
VERSION:2.0
PRODID:-//Georgia Sheriffs&#039; Association - ECPv6.15.20//NONSGML v1.0//EN
CALSCALE:GREGORIAN
METHOD:PUBLISH
X-WR-CALNAME:Georgia Sheriffs&#039; Association
X-ORIGINAL-URL:https://georgiasheriffs.org
X-WR-CALDESC:Events for Georgia Sheriffs&#039; Association
REFRESH-INTERVAL;VALUE=DURATION:PT1H
X-Robots-Tag:noindex
X-PUBLISHED-TTL:PT1H
BEGIN:VTIMEZONE
TZID:America/New_York
BEGIN:DAYLIGHT
TZOFFSETFROM:-0500
TZOFFSETTO:-0400
TZNAME:EDT
DTSTART:20210314T070000
END:DAYLIGHT
BEGIN:STANDARD
TZOFFSETFROM:-0400
TZOFFSETTO:-0500
TZNAME:EST
DTSTART:20211107T060000
END:STANDARD
BEGIN:DAYLIGHT
TZOFFSETFROM:-0500
TZOFFSETTO:-0400
TZNAME:EDT
DTSTART:20220313T070000
END:DAYLIGHT
BEGIN:STANDARD
TZOFFSETFROM:-0400
TZOFFSETTO:-0500
TZNAME:EST
DTSTART:20221106T060000
END:STANDARD
BEGIN:DAYLIGHT
TZOFFSETFROM:-0500
TZOFFSETTO:-0400
TZNAME:EDT
DTSTART:20230312T070000
END:DAYLIGHT
BEGIN:STANDARD
TZOFFSETFROM:-0400
TZOFFSETTO:-0500
TZNAME:EST
DTSTART:20231105T060000
END:STANDARD
END:VTIMEZONE
BEGIN:VEVENT
DTSTART;TZID=America/New_York:20221107T080000
DTEND;TZID=America/New_York:20221108T170000
DTSTAMP:20260423T074816
CREATED:20220913T193444Z
LAST-MODIFIED:20240708T175949Z
UID:10000023-1667808000-1667926800@georgiasheriffs.org
SUMMARY:Senior Deputy: Court Services
DESCRIPTION:Location\n\n\n\n\n\nContact
URL:https://georgiasheriffs.org/event/senior-deputy-court-services/
LOCATION:Forsyth County Sheriff’s Office\, 100 East Courthouse Square\, Cumming\, GA\, 30040\, United States
CATEGORIES:Senior Deputy
ORGANIZER;CN="Lt. James Poe":MAILTO:sotrainingrequest@forsythco.com
GEO:34.2065205;-84.1392332
X-APPLE-STRUCTURED-LOCATION;VALUE=URI;X-ADDRESS=Forsyth County Sheriff’s Office 100 East Courthouse Square Cumming GA 30040 United States;X-APPLE-RADIUS=500;X-TITLE=100 East Courthouse Square:geo:-84.1392332,34.2065205
END:VEVENT
END:VCALENDAR