BEGIN:VCALENDAR
VERSION:2.0
PRODID:-//Georgia Sheriffs&#039; Association - ECPv6.15.20//NONSGML v1.0//EN
CALSCALE:GREGORIAN
METHOD:PUBLISH
X-WR-CALNAME:Georgia Sheriffs&#039; Association
X-ORIGINAL-URL:https://georgiasheriffs.org
X-WR-CALDESC:Events for Georgia Sheriffs&#039; Association
REFRESH-INTERVAL;VALUE=DURATION:PT1H
X-Robots-Tag:noindex
X-PUBLISHED-TTL:PT1H
BEGIN:VTIMEZONE
TZID:America/New_York
BEGIN:DAYLIGHT
TZOFFSETFROM:-0500
TZOFFSETTO:-0400
TZNAME:EDT
DTSTART:20240310T070000
END:DAYLIGHT
BEGIN:STANDARD
TZOFFSETFROM:-0400
TZOFFSETTO:-0500
TZNAME:EST
DTSTART:20241103T060000
END:STANDARD
BEGIN:DAYLIGHT
TZOFFSETFROM:-0500
TZOFFSETTO:-0400
TZNAME:EDT
DTSTART:20250309T070000
END:DAYLIGHT
BEGIN:STANDARD
TZOFFSETFROM:-0400
TZOFFSETTO:-0500
TZNAME:EST
DTSTART:20251102T060000
END:STANDARD
BEGIN:DAYLIGHT
TZOFFSETFROM:-0500
TZOFFSETTO:-0400
TZNAME:EDT
DTSTART:20260308T070000
END:DAYLIGHT
BEGIN:STANDARD
TZOFFSETFROM:-0400
TZOFFSETTO:-0500
TZNAME:EST
DTSTART:20261101T060000
END:STANDARD
BEGIN:DAYLIGHT
TZOFFSETFROM:-0500
TZOFFSETTO:-0400
TZNAME:EDT
DTSTART:20270314T070000
END:DAYLIGHT
BEGIN:STANDARD
TZOFFSETFROM:-0400
TZOFFSETTO:-0500
TZNAME:EST
DTSTART:20271107T060000
END:STANDARD
END:VTIMEZONE
BEGIN:VEVENT
DTSTART;TZID=America/New_York:20260414T080000
DTEND;TZID=America/New_York:20260417T170000
DTSTAMP:20260422T061439
CREATED:20260205T184313Z
LAST-MODIFIED:20260212T141305Z
UID:10000805-1776153600-1776445200@georgiasheriffs.org
SUMMARY:2026 Law Enforcement Chaplains Conference
DESCRIPTION:2026 Chaplains ConferenceConference ScheduleLodgingRegistrationContact Us\n\nThe Georgia Sheriffs’ Association Chaplains’ Division was created to promote the availability of chaplains to meet the spiritual and emotional needs of the sheriffs and their staff\, families\, and members of the community. \n\n\n\nEvery year the Division offers a conference for chaplains who serve their Sheriff as a law enforcement chaplain. This year’s training will include the ADVANCED and BASIC course. Do not miss out! \n\n\n\nMark your calendar!Basic – April 14-17\, 2026 \n\n\n\nAdvanced – April 15-17\, 2026 \n\n\n\nJoin us at: \n\n\n\n\n\n\n\n20-hour BASIC Law Enforcement Chaplaincy Training \n\n\n\nCertified deputies will receive P.O.S.T. credit according to the hours attended. \n\n\n\nTuesday\, April 146:00 pm – 7:00 pmRegistrationBrown Foyer7:00 pmTrainingJones AuditoriumWednesday\, April 15 & Thursday April 168:00 am – 5:00 pmJones AuditoriumFriday\, April 1711:00 amGraduationBrown Auditorium\n\n\n\n20-hour ADVANCED Law Enforcement Chaplaincy Training \n\n\n\nCertified deputies will receive P.O.S.T. credit according to the hours attended. \n\n\n\nTuesday\, April 146:00 pm – 7:00 pmRegistrationBrown AuditoriumWednesday\, April 157:15 am – 7:45 amRegistrationBrown Auditorium8:00 am – 5:00 pmTrainingBrown AuditoriumThursday\, April 168:00 am – 5:00 pmTrainingBrown AuditoriumFriday\, April 1711:00 amGraduationBrown Auditorium\n\n\n\n\n\nEpworth by the Sea100 Arthur J. Moore DriveSt. Simons Island\, Georgia 31522912-638-8688 \n\n\n\nLodging & Meals:The cost of one-night lodging includes three meals. You must select the motel you wish to stay at on the property\, make your reservations\, and pay Epworth by credit card or check. Check-in is at 4:00 pm; check-out is 11:30 am. Present a tax-exempt form at check-in to eliminate taxes. \n\n\n\nPitts MotelSingle per night with tax: $162.50Double per night with tax: $115.90Robertson InnSingle per night with tax: $183.50Double per night with tax: $126.40Turner LodgeSingle per night with tax: $192.95Double per night with tax: $134.80\n\n\n\nHotel ReservationsCall Epworth by the Sea @ 912-638-8688 and request a room in the Georgia Sheriffs’ Association Chaplains block\, at whichever hotel you choose. The deadline to make reservations is April 10\, 2026.Cancellation PolicyAny individual cancellation within 30 days of arrival date will forfeit your per person deposit.Any individual cancellation within 14 days of arrival date will forfeit the first night’s rate.Any individual cancellation within 72 hours of arrival date will forfeit the entire per person charges.CommutersThose who plan to commute daily to Epworth must purchase meal tickets at the front desk. Contact Epworth by the Sea for prices.\n\n\n\n\n\n\n\n\nYou must pre-register by completing the online registration form below.\n\n\n\nRegistration deadline is April 10\, 2026.\n\n\n\nRegistration fees are non-refundable for cancellations made 10 days or less prior to the starting date of the training event.\n\n\n\n\nIMPORTANT! – During 2019\, the Law Enforcement Chaplains Division Basic training curriculum was revised. \n\n\n\n\nThe 40-hour Basic Course now includes three parts. Prior to attending the 20-hour classroom instruction of the LE Chaplain’s Basic Course\, the student must complete the following: (1) 5-hours of online training via zoom with GSA staff and (2) 16-hours of Peer & Crisis Support for Individuals in Distress with Crisis Support Solutions.\n\n\n\nIMPORTANT! Conference attendance must be approved by the sheriff. Click here to download the Attendance Approval Form.\n\n\n\n\n\n\n\n\n\n\n\n\n\n\n\n\nRegistration & Lodging\n\n\n\n\n\nTraining & Lodging
URL:https://georgiasheriffs.org/event/2026-law-enforcement-chaplains-conference/
LOCATION:Epworth by the Sea\, 100 Arthur J. Moore Drive\, St. Simons Island\, GA\, 31522\, United States
CATEGORIES:Conference
ATTACH;FMTTYPE=image/png:https://georgiasheriffs.org/wp-content/uploads/2025/02/chaplains-conference.png
ORGANIZER;CN="Christina Watts":MAILTO:cwatts@georgiasheriffs.org
GEO:31.172676613712;-81.406188487334
X-APPLE-STRUCTURED-LOCATION;VALUE=URI;X-ADDRESS=Epworth by the Sea 100 Arthur J. Moore Drive St. Simons Island GA 31522 United States;X-APPLE-RADIUS=500;X-TITLE=100 Arthur J. Moore Drive:geo:-81.406188487334,31.172676613712
END:VEVENT
BEGIN:VEVENT
DTSTART;TZID=America/New_York:20260318T080000
DTEND;TZID=America/New_York:20260318T123000
DTSTAMP:20260422T061439
CREATED:20260204T215403Z
LAST-MODIFIED:20260311T174544Z
UID:10000804-1773820800-1773837000@georgiasheriffs.org
SUMMARY:Open Records Training Seminar
DESCRIPTION:Open Records OverviewLodgingSchedule of EventsRegistrationContact Us\n\nPursuant to the Georgia Open Records Law\, all state\, county\, and municipal records\, except those specifically exempted from being open to inspection by the general public\, shall be open for a personal inspection by any citizen of this state at a reasonable time and place. It is those records not subject to public disclosure or portions of records that must be redacted that raises questions. It is critical that law enforcement be as well informed as possible regarding the laws governing the access of the public to the information that government has. \n\n\n\nDue to the overwhelming requests for training on this topic\, GSA is offering an Open Records for Law Enforcement training. Presented by Cheryl Savage with the Georgia Bureau of Investigation\, this approximate 4-hour class is scheduled for March 18\, 2026. Each student will receive a copy of the 2014 edition of Georgia Law Enforcement and the Open Records Act “blue book”. \n\n\n\nThe class is limited to 70 students. Please register early. \n\n\n\nRegistration Deadline: March 10\, 2026 \n\n\n\nThe location for this training is: \n\n\n\n\n\n\n\nThe GSA will NOT reserve a block of rooms for students for this event. However\, if you need lodging\, you may consider these area hotels for accommodations Hotel Accommodations must be sought by the student\, requesting the hotel’s government rate. Recommended hotels are: \n\n\n\n \n\n\n\nHoliday Inn Express1041 Ramada LandMadison\, GA 30650706-342-9190*Call for pricingThe James Madison Inn260 W Washington St.Madison\, GA 30650706-342-7040*Call for pricing – mention LE Training at the GSAHampton Inn2021 Eatonton RoadMadison\, GA 30650706-342-9003*Call for pricing\n\n\n\n***You must present your tax-exempt forms to the hotel at check-in. \n\n\n\n\n\nWednesday\, March 18 at: Georgia Sheriffs’ Association \n\n\n\nRegistration7:30 a.m. – 8:00 a.m.Training8:00 a.m. – 12:30 p.m.\n\n\n\n\n\n\n\n\nYou must pre-register by completing the on-line registration form.\n\n\n\nThere is a $20.00 registration fee to cover printed materials.\n\n\n\nRegistration deadline is March 10\, 2026\n\n\n\n\n\n\n\n\n\n\n\n\nRegistration\n\n\n\n\n\nTraining
URL:https://georgiasheriffs.org/event/open-records-training-seminar-3/
LOCATION:Georgia Sheriffs’ Association\, 1000 Sheriffs Way\, Madison\, GA\, 30650\, United States
CATEGORIES:Training
ATTACH;FMTTYPE=image/png:https://georgiasheriffs.org/wp-content/uploads/2025/01/open-records-seminar.png
ORGANIZER;CN="Christina Watts":MAILTO:cwatts@georgiasheriffs.org
GEO:33.568375323607;-83.467374769346
X-APPLE-STRUCTURED-LOCATION;VALUE=URI;X-ADDRESS=Georgia Sheriffs’ Association 1000 Sheriffs Way Madison GA 30650 United States;X-APPLE-RADIUS=500;X-TITLE=1000 Sheriffs Way:geo:-83.467374769346,33.568375323607
END:VEVENT
BEGIN:VEVENT
DTSTART;TZID=America/New_York:20260209T160000
DTEND;TZID=America/New_York:20260212T123000
DTSTAMP:20260422T061439
CREATED:20251204T164624Z
LAST-MODIFIED:20260205T144230Z
UID:10000729-1770652800-1770899400@georgiasheriffs.org
SUMMARY:2026 Jail Management Conference
DESCRIPTION:2026 Jail Management ConferenceLodgingSchedule of EventsRegistrationContact UsFinal Details \n\nThe Jail Management Conference will provide intensive training to sheriffs\, jail administrators and jail supervisory personnel on management techniques to improve the operational effectiveness of the jail. In addition\, this conference presents networking opportunities with jail managers across the state. Tentative training topics include: developing defensible policy and procedures\, mental health issues in the jail setting\, regional networking and more. \n\n\n\nJoin us at: \n\n\n\n\n\n\n\nGreat Wolf Lodge150 Tom Hall ParkwayLaGrange\, GA 30240 \n\n\n\nRoom Rate & Reservations: The room rate is $99 per night.  This rate is ONLY available to Sheriff’s Office staff. \n\n\n\nThe room rate is $99 + tax nightly (single or double occupancy) and there is no charge for parking.  All room rates are subject to applicable state and local taxes and fees (these fees are subject to change at the discretion of the state) and $5 state hotel-motel fee per night. \n\n\n\nNOTE: To claim tax-exempt status\, provide a tax-exempt form (1) one week prior to arrival. Forms are to be emailed to gataxforms@greatwolf.com along with the Group name\, name of guest(s) and confirmation number. \n\n\n\nCalling in your reservation is the only option to receive the special lodging rate.The call in number is 844-474-9653You MUST reference “block code 2602GSAM” when making your reservation.  Check in is at 4:00 pm; check-out is 11:00 am. \n\n\n\nReservations deadline: January 9\, 2026 or until rooms are sold out. Make your reservations early as rooms are limited.Cancellation Policy: All individual reservations must be accompanied by a one night’s deposit in the form of a check or credit card. If you cancel within 72 hours prior to arrival\, the deposit becomes non-refundable. \n\n\n\n\n\n\nRegistration: Monday\, February 9\, 4:00 pm – 6:00 pm at the Registration Booth and Tuesday\, February 10\, 8:00 am – 8:30 am at the Registration Booth\n\n\n\nTraining begins at 8:30 am on Tuesday\, February 10 and concludes Thursday\, February 12 at 12:30 pm.\n\n\n\nThe vendor show is scheduled during the afternoon of Tuesday\, February 10.\n\n\n\nA confirmation email will provide details of the schedule/events.\n\n\n\nCertified jailers/deputies will receive a minimum of 15 hours P.O.S.T. credit based on 100% attendance of the conference.\n\n\n\n\nTuesday\, February 10\, 2026 \n\n\n\n\n8:00 a.m. – 8:30 a.m. Registration & Breakfast Sandwich Provided\n\n\n\n8:30 a.m. – 11:35 a.m. TRAINING\n\n\n\n11:35 a.m. – 1:00 p.m. Lunch on your own\n\n\n\n1:00 p.m. – 3:30 p.m. TRAINING\n\n\n\n3:30 p.m. – 6:00 p.m. Reception with Exhibitors\n\n\n\n\nWednesday\, February 11\, 2026 \n\n\n\n\n8:00 a.m. – 12:00 p.m. TRAINING\n\n\n\n12:00 p.m. – 1:30 p.m. Lunch provided\n\n\n\n1:30 p.m. – 5:00 p.m. TRAINING\n\n\n\n\nThursday\, February 12\, 2026 \n\n\n\n\n8:00 a.m. – 12:30 p.m. TRAINING & Breakfast Sandwich Provided\n\n\n\n12:30 p.m. Adjourn\n\n\n\n\n\n\n\n\n\nYou must pre-register by completing the online registration form below.\n\n\n\nAny staff member who attends must also complete registration online and pay the registration fee.\n\n\n\nRegistration Deadline: February 2\, 2026.\n\n\n\nThe registration confirmation email is sent to the email address in the Individual Completing this Form field only. Therefore\, if you are NOT the attendee please forward a copy of the registration confirmation email to the attendee.\n\n\n\nRegistration fees are non-refundable for cancellations made 10 days or less prior to the starting date of the training event.\n\n\n\n\n\n\n\n\n\n\n\n\nRegistration\n\n\n\n\n\nLodging & Training\n\n\n\n\n\n\n\n\n\n\n\nClick here to view the agenda.
URL:https://georgiasheriffs.org/event/2026-jail-management-conference/
LOCATION:The Great Wolf Lodge\, 150 Tom Hall Parkway\, LaGrange\, GA\, 30240\, United States
CATEGORIES:Conference
ATTACH;FMTTYPE=image/png:https://georgiasheriffs.org/wp-content/uploads/2025/12/jail-management-conference.png
ORGANIZER;CN="Christina Watts":MAILTO:cwatts@georgiasheriffs.org
GEO:32.9950167;-85.0254838
X-APPLE-STRUCTURED-LOCATION;VALUE=URI;X-ADDRESS=The Great Wolf Lodge 150 Tom Hall Parkway LaGrange GA 30240 United States;X-APPLE-RADIUS=500;X-TITLE=150 Tom Hall Parkway:geo:-85.0254838,32.9950167
END:VEVENT
BEGIN:VEVENT
DTSTART;TZID=America/New_York:20260120T100000
DTEND;TZID=America/New_York:20260122T120000
DTSTAMP:20260422T061439
CREATED:20251006T182041Z
LAST-MODIFIED:20260114T141743Z
UID:10000721-1768903200-1769083200@georgiasheriffs.org
SUMMARY:2026 Winter Conference
DESCRIPTION:Content is protected.
URL:https://georgiasheriffs.org/event/winter-conference/
LOCATION:Chateau Elan\, 100 Rue Charlemagne\, Braselton\, GA\, 30517\, United States
CATEGORIES:Sheriffs' Conference
ORGANIZER;CN="Christina Watts":MAILTO:cwatts@georgiasheriffs.org
GEO:34.1019483;-83.8176342
X-APPLE-STRUCTURED-LOCATION;VALUE=URI;X-ADDRESS=Chateau Elan 100 Rue Charlemagne Braselton GA 30517 United States;X-APPLE-RADIUS=500;X-TITLE=100 Rue Charlemagne:geo:-83.8176342,34.1019483
END:VEVENT
BEGIN:VEVENT
DTSTART;TZID=America/New_York:20251118T080000
DTEND;TZID=America/New_York:20251119T170000
DTSTAMP:20260422T061439
CREATED:20251017T175035Z
LAST-MODIFIED:20251110T192038Z
UID:10000724-1763452800-1763571600@georgiasheriffs.org
SUMMARY:2025 Sex Offender Registry: The Basics
DESCRIPTION:2025 SOR: The BasicsLodgingSchedule of EventsClass RequirementRegistrationContact UsFinal Class Details\n\nThe Office of Sheriff is mandated by law to register sex offenders. This complicated process requires specialized training to effectively enforce the sex offender registry statutes. Sheriff’s office personnel who are newly assigned to Sex Offender Registration and Enforcement\, have not received any formal training\, or feel they need a refresher on the basics\, are strongly encouraged to attend. This 14-hour course will cover the sex offender laws and basic registration & enforcement procedures. \n\n\n\n\n\n\n\nThe GSA will NOT reserve a block of rooms for students for this event. Suggested hotel accommodations are: \n\n\n\nHoliday Inn Express1041 Ramada LaneMadison\, GA 30650706.342.9190Hampton Inn2012 Eatonton RoadMadison\, GA 30650706.342.9003James Madison Inn260 W. Washington StreetMadison\, GA 30650706.342.704\n\n\n\nPlease check your hotel confirmation to ensure you have the correct check-in and check-out date. If claiming tax-exempt status\, provide your tax-exempt form to the hotel at check-in. \n\n\n\n\n\nPlease check your hotel confirmation to ensure you have the correct check-in and check-out date. If claiming tax-exempt status\, provide your tax-exempt form to the hotel at check-in. \n\n\n\nTuesday\, November 18\, 2025 \n\n\n\n\nRegistration: 8:30 am – 9:00 am (Training Lobby)\n\n\n\nTraining: 9:00 am – 4:00 pm\n\n\n\n\nWednesday\, November 19 2025 \n\n\n\n\nTraining: 8:30 am – 4:00 pm\n\n\n\n\n\n\nThis training includes an interactive session for attendees to enter test record information into the SORT database. It is recommended that each student: \n\n\n\n\nBring a laptop or tablet to the class and\n\n\n\nObtain a user ID and password for the SORT program and SSL VPN prior to the training from the GCIC website at http://gcicweb.gbi.state.ga.us\n\n\n\n\n\n\n\n\n\nYou must pre-register by completing this on-line registration form below.\n\n\n\n\n\n\n\n\n\n\n\n\nRegistration\n\n\n\n\n\nLodging\n\n\n\n\n\nTraining\n\n\n\n\n\n\n\n\n\n*Note: The SOR Basic 101 training includes an interactive session for attendees to enter test record information into the SORT database. It is recommended that each student obtain a user id and password for the SORT program and SSL VPN prior to the training. Request forms for SORT and SSL VPN user id and passwords are available on the GCIC website at http://gcicweb.gbi.state.ga.us \n\n\n\n\nDress: Business – casual dress is welcome\, unless your agency requires you to wear your uniform; just remember you are representing your sheriff’s office. You may want to bring a jacket in case the classroom is chilly.
URL:https://georgiasheriffs.org/event/2025-sex-offender-registry-the-basics-2/
LOCATION:Georgia Sheriffs’ Association\, 1000 Sheriffs Way\, Madison\, GA\, 30650\, United States
CATEGORIES:Training
ATTACH;FMTTYPE=image/png:https://georgiasheriffs.org/wp-content/uploads/2025/01/sex-offender-registry-the-basics.png
ORGANIZER;CN="Christina Watts":MAILTO:cwatts@georgiasheriffs.org
GEO:33.568375323607;-83.467374769346
X-APPLE-STRUCTURED-LOCATION;VALUE=URI;X-ADDRESS=Georgia Sheriffs’ Association 1000 Sheriffs Way Madison GA 30650 United States;X-APPLE-RADIUS=500;X-TITLE=1000 Sheriffs Way:geo:-83.467374769346,33.568375323607
END:VEVENT
BEGIN:VEVENT
DTSTART;TZID=America/New_York:20251020T100000
DTEND;TZID=America/New_York:20251022T120000
DTSTAMP:20260422T061439
CREATED:20250331T181007Z
LAST-MODIFIED:20251014T232347Z
UID:10000681-1760954400-1761134400@georgiasheriffs.org
SUMMARY:2025 Sheriffs' Fall Training Conference
DESCRIPTION:Content is protected.
URL:https://georgiasheriffs.org/event/2025-sheriffs-fall-training-conference/
LOCATION:Marriott Savannah Riverfront\, 100 General McIntosh Blvd\, Savannah\, GA\, 31401\, United States
CATEGORIES:Conference,Sheriffs' Conference
ORGANIZER;CN="Christina Watts":MAILTO:cwatts@georgiasheriffs.org
END:VEVENT
BEGIN:VEVENT
DTSTART;TZID=America/New_York:20250826T080000
DTEND;TZID=America/New_York:20250828T170000
DTSTAMP:20260422T061439
CREATED:20250113T193252Z
LAST-MODIFIED:20250813T184810Z
UID:10000588-1756195200-1756400400@georgiasheriffs.org
SUMMARY:2025 Sex Offender Registry Management Conference
DESCRIPTION:Sex Offender Registry ConferenceLodgingSchedule of EventsRegistrationTraining TopicsContact UsFinal Training Details\n\nThe Georgia’s Sex Offender Registry statutes continue to significantly impact the manner in which offenders are registered and tracked\, placing additional responsibilities on each sheriff’s office. The Georgia Sheriffs’ Association Training Academy continues its commitment of providing ongoing support and training on mandates imposed on the Office of Sheriff. \n\n\n\n\n\n\n\nGreat Wolf Lodge150 Tom Hall ParkwayLaGrange\, GA 30240(706) 837-9653 \n\n\n\nRoom Rate & Reservations: Contact Great Wolf Lodge by calling the Central Reservations Department at 1-844-473-9653 or online at www.greatwolf.com/georgia and request a room in the Georgia Sheriffs’ Association block with Reservation Code: 2511GSAS. \n\n\n\nThe room rate is $99+tax nightly (single or double occupancy) and there is no charge for parking. All room rates are subject to applicable state and local taxes and fees (these fees are subject to change at the discretion of the state) and $5 state hotel-motel fee per night. \n\n\n\nNOTE: To claim tax-exempt status\, provide a tax-exempt form (1) one week prior to arrival. The reservation(s) must be made in the name of the individual who is tax exempt and paid with the organizations’ credit card or certified check. E-mail tax exempt forms to gataxforms@greatwolf.com along with the group name – 2511GSAS\, name of guest(s) and confirmation number. \n\n\n\nCheck in is at 4:00 pm; check-out is 11:00 am. \n\n\n\nReservations Deadline: July 25\, 2025 or until the reservation block is full. \n\n\n\nCancellation Policy: All individual reservations must be accompanied by a one night’s deposit in the form of a check or credit card. Deposits are non-refundable unless individual cancellation is received more than 72 hours prior to arrival. \n\n\n\n\n\nThis training is for all personnel who are involved with the registration\, tracking\, and prosecution of a sex offender. Each sheriff’s office is encouraged to send at least one representative to this conference. \n\n\n\nDate:Tuesday\, August 26 – Thursday\, August 28Training:Training begins at 8:30 am on Tuesday; concludes at noon on Thursday.Registration Fee:$350; you must pre-register by completing the on-line registration form. No cancellation refunds will be issued after July 25. Deadline to register: July 25.Registration on-site:Monday\, August 25\, 4:30 pm – 6:00 pm andTuesday\, August 26\, 7:30 am – 8:30 am\n\n\n\n\n\n\n\n\n\n\n\n\n\n\n\nIn addition to the general sessions\, various breakout sessions will be offered during the conference. \n\n\n\nTraining topics to include: \n\n\n\n\nCase Review: Escalating Violence-Offenders Know No Boundaries\n\n\n\nCase Review: Straight from the Sheriff – Sex Trafficking Isn’t a Game\n\n\n\nChild Exploitation – Undercover Chat Investigations\n\n\n\nNational Center for Missing & Exploited Children (NCMEC) – AI Generated Content\n\n\n\nThe Prosecution of Criminal Actors\n\n\n\nRegional Breakout Sessions are Back!\n\n\n\nSilent Witness; Advancing DNA Technology to Solve Crimes\n\n\n\nAnd more…\n\n\n\n\n\n\nRegistration\n\n\n\n\n\nTraining/Lodging\n\n\n\n\n\n\n\n\n\n\n\nVisit this site after August 19 for final training details. Essential details may include a tentative agenda\, training materials\, registration/training times\, or other important information. \n\n\n\nClick here to view training agenda
URL:https://georgiasheriffs.org/event/2025-sex-offender-registry-management-conference/
LOCATION:The Great Wolf Lodge\, 150 Tom Hall Parkway\, LaGrange\, GA\, 30240\, United States
CATEGORIES:Conference
ATTACH;FMTTYPE=image/png:https://georgiasheriffs.org/wp-content/uploads/2025/02/sex-offender-registry-management-conference-sor.png
ORGANIZER;CN="Abby Pennington":MAILTO:apennington@georgiasheriffs.org
GEO:32.9950167;-85.0254838
X-APPLE-STRUCTURED-LOCATION;VALUE=URI;X-ADDRESS=The Great Wolf Lodge 150 Tom Hall Parkway LaGrange GA 30240 United States;X-APPLE-RADIUS=500;X-TITLE=150 Tom Hall Parkway:geo:-85.0254838,32.9950167
END:VEVENT
END:VCALENDAR