BEGIN:VCALENDAR
VERSION:2.0
PRODID:-//Georgia Sheriffs&#039; Association - ECPv6.15.20//NONSGML v1.0//EN
CALSCALE:GREGORIAN
METHOD:PUBLISH
X-ORIGINAL-URL:https://georgiasheriffs.org
X-WR-CALDESC:Events for Georgia Sheriffs&#039; Association
REFRESH-INTERVAL;VALUE=DURATION:PT1H
X-Robots-Tag:noindex
X-PUBLISHED-TTL:PT1H
BEGIN:VTIMEZONE
TZID:America/New_York
BEGIN:DAYLIGHT
TZOFFSETFROM:-0500
TZOFFSETTO:-0400
TZNAME:EDT
DTSTART:20240310T070000
END:DAYLIGHT
BEGIN:STANDARD
TZOFFSETFROM:-0400
TZOFFSETTO:-0500
TZNAME:EST
DTSTART:20241103T060000
END:STANDARD
BEGIN:DAYLIGHT
TZOFFSETFROM:-0500
TZOFFSETTO:-0400
TZNAME:EDT
DTSTART:20250309T070000
END:DAYLIGHT
BEGIN:STANDARD
TZOFFSETFROM:-0400
TZOFFSETTO:-0500
TZNAME:EST
DTSTART:20251102T060000
END:STANDARD
BEGIN:DAYLIGHT
TZOFFSETFROM:-0500
TZOFFSETTO:-0400
TZNAME:EDT
DTSTART:20260308T070000
END:DAYLIGHT
BEGIN:STANDARD
TZOFFSETFROM:-0400
TZOFFSETTO:-0500
TZNAME:EST
DTSTART:20261101T060000
END:STANDARD
END:VTIMEZONE
BEGIN:VEVENT
DTSTART;TZID=America/New_York:20250206T080000
DTEND;TZID=America/New_York:20250206T160000
DTSTAMP:20260420T200634
CREATED:20250129T142344Z
LAST-MODIFIED:20250129T142459Z
UID:10000599-1738828800-1738857600@georgiasheriffs.org
SUMMARY:Drone Assessment and Response Tactics
DESCRIPTION:The DART course provides emergency personnel with the knowledge and skills necessary to detect\, identity\, track\, assess\, respond\, and report Unmanned Aircraft Systems (UAS) activity.
URL:https://georgiasheriffs.org/event/drone-assessment-and-response-tactics/
LOCATION:Columbia County BOE\, 6000 Columbia Road\, Grovetown\, GA\, 30813\, United States
CATEGORIES:Local & State,Training
END:VEVENT
END:VCALENDAR