BEGIN:VCALENDAR
VERSION:2.0
PRODID:-//Georgia Sheriffs&#039; Association - ECPv6.15.20//NONSGML v1.0//EN
CALSCALE:GREGORIAN
METHOD:PUBLISH
X-ORIGINAL-URL:https://georgiasheriffs.org
X-WR-CALDESC:Events for Georgia Sheriffs&#039; Association
REFRESH-INTERVAL;VALUE=DURATION:PT1H
X-Robots-Tag:noindex
X-PUBLISHED-TTL:PT1H
BEGIN:VTIMEZONE
TZID:America/New_York
BEGIN:DAYLIGHT
TZOFFSETFROM:-0500
TZOFFSETTO:-0400
TZNAME:EDT
DTSTART:20220313T070000
END:DAYLIGHT
BEGIN:STANDARD
TZOFFSETFROM:-0400
TZOFFSETTO:-0500
TZNAME:EST
DTSTART:20221106T060000
END:STANDARD
BEGIN:DAYLIGHT
TZOFFSETFROM:-0500
TZOFFSETTO:-0400
TZNAME:EDT
DTSTART:20230312T070000
END:DAYLIGHT
BEGIN:STANDARD
TZOFFSETFROM:-0400
TZOFFSETTO:-0500
TZNAME:EST
DTSTART:20231105T060000
END:STANDARD
BEGIN:DAYLIGHT
TZOFFSETFROM:-0500
TZOFFSETTO:-0400
TZNAME:EDT
DTSTART:20240310T070000
END:DAYLIGHT
BEGIN:STANDARD
TZOFFSETFROM:-0400
TZOFFSETTO:-0500
TZNAME:EST
DTSTART:20241103T060000
END:STANDARD
BEGIN:DAYLIGHT
TZOFFSETFROM:-0500
TZOFFSETTO:-0400
TZNAME:EDT
DTSTART:20250309T070000
END:DAYLIGHT
BEGIN:STANDARD
TZOFFSETFROM:-0400
TZOFFSETTO:-0500
TZNAME:EST
DTSTART:20251102T060000
END:STANDARD
END:VTIMEZONE
BEGIN:VEVENT
DTSTART;TZID=America/New_York:20240417T080000
DTEND;TZID=America/New_York:20240418T160000
DTSTAMP:20260420T031728
CREATED:20240117T195936Z
LAST-MODIFIED:20240708T175847Z
UID:10000275-1713340800-1713456000@georgiasheriffs.org
SUMMARY:2024 Sex Offender Registry: The Basics
DESCRIPTION:SOR: The BasicsLodgingSchedule of EventsClass RequirementRegistrationContact UsFinal Conference Details\n\nThe Office of Sheriff is mandated by law to register sex offenders. This complicated process requires specialized training to effectively enforce the sex offender registry statutes. Sheriff’s office personnel who are newly assigned to Sex Offender Registration and Enforcement\, have not received any formal training\, or feel they need a refresher on the basics\, are strongly encouraged to attend. This 14-hour course will cover the sex offender laws and basic registration & enforcement procedures. \n\n\n\n\n\nSpace is limited; register early.  Deadline to register: April 3\, 2024. \n\n\n\n\n\nThe GSA will NOT reserve a block of rooms for students for this event. Suggested hotel accommodations are: \n\n\n\nJames Madison Inn260 W. Washington StreetMadison\, GA 30650706-342-7040Holiday Inn Express1041 Ramada LaneMadison\, GA 30650706-342-9190Hampton Inn2012 Eatonton RoadMadison\, GA 30650706-342-9003\n\n\n\nPlease check your hotel confirmation to ensure you have the correct check-in and check-out date. If claiming tax-exempt status\, provide your tax-exempt form to the hotel at check-in. \n\n\n\n\n\nWednesday\, April 17\, 2024 \n\n\n\n\nRegistration: 8:00 a.m. – 8:30 a.m. (Training Lobby)\n\n\n\nTraining: 8:30 a.m. – 4:00 p.m.\n\n\n\n\nThursday\, April 18\, 2024 \n\n\n\n\nTraining: 8:30 a.m. – 4:00 p.m.\n\n\n\n\n\n\nThis training includes an interactive session for attendees to enter test record information into the SORT database. It is recommended that each student: \n\n\n\n\nBring a laptop or tablet to the class and\n\n\n\nObtain a user ID and password for the SORT program and SSL VPN prior to the training from the GCIC website at http://gcicweb.gbi.state.ga.us\n\n\n\n\n\n\n\n\n\nRegistration Fee: $90 (Non-refundable fee covers cost of the current SOR Manual.)\n\n\n\nYou must pre-register by completing this on-line registration form below.\n\n\n\nRegistration Deadline: April 3\, 2024.\n\n\n\nThe confirmation email is only received by the email address of the individual completing this form. If you are not the attendee please forward the confirmation email to the attendee.\n\n\n\n\n\n\n\n\n\n\n\n\n\n\n\n\nRegistration: \n\n\n\n\n\nLodging: \n\n\n\n\n\nTraining: \n\n\n\n\n\n\n\n\n\n*Note: The SOR Basic 101 training includes an interactive session for attendees to enter test record information into the SORT database. It is recommended that each student obtain a user id and password for the SORT program and SSL VPN prior to the training. Request forms for SORT and SSL VPN user id and passwords are available on the GCIC website at http://gcicweb.gbi.state.ga.us \n\n\n\n\nDress: Business – casual dress is welcome\, unless your agency requires you to wear your uniform; just remember you are representing your sheriff’s office. You may want to bring a jacket in case the classroom is chilly.
URL:https://georgiasheriffs.org/event/2024-sex-offender-registry-the-basics/
LOCATION:Georgia Sheriffs’ Association\, 1000 Sheriffs Way\, Madison\, GA\, 30650\, United States
CATEGORIES:Training
ORGANIZER;CN="Brent Loeffler":MAILTO:bloeffler@georgiasheriffs.org
GEO:33.568375323607;-83.467374769346
X-APPLE-STRUCTURED-LOCATION;VALUE=URI;X-ADDRESS=Georgia Sheriffs’ Association 1000 Sheriffs Way Madison GA 30650 United States;X-APPLE-RADIUS=500;X-TITLE=1000 Sheriffs Way:geo:-83.467374769346,33.568375323607
END:VEVENT
BEGIN:VEVENT
DTSTART;TZID=America/New_York:20231211T083000
DTEND;TZID=America/New_York:20231212T120000
DTSTAMP:20260420T031728
CREATED:20231101T133813Z
LAST-MODIFIED:20240708T175851Z
UID:10000249-1702283400-1702382400@georgiasheriffs.org
SUMMARY:Civil Process Seminar
DESCRIPTION:2023 Civil Process SeminarLodgingSchedule of EventsClass RequirementsRegistrationContact UsFinal Conference Details\n\nThe Georgia Sheriffs’ Association Training Academy will conduct a Civil Process Seminar. The training will provide a working knowledge of civil process to include writs\, summons\, ejectment\, procedures\, and other court orders. Advanced topics will also include\, Fifa’s\, garnishments\, etc. Each student will receive a copy of the Georgia Sheriffs’ Association Civil Process Manual as part of this training. \n\n\n\n\n\n\n\nThe GSA will NOT reserve a block of rooms for students for this event. Suggested hotel accommodations are: \n\n\n\nHoliday Inn Express1041 Ramada LandMadison\, Ga. 30650706-342-9190James Madison Inn260 W. Washington St.Madison\, Ga. 30650706-342-7040Hampton Inn2021 Eatonton RoadMadison\, Ga. 30650706-342-9003\n\n\n\n***You must present your tax-exempt forms to the hotel at check-in. \n\n\n\n\n\nMonday\, December 11\, 2023 \n\n\n\n\nRegistration Onsite8:00 a.m. – 9:00 a.m.Training Room Lobby\n\n\n\nTraining9:00 a.m. – 5:00 p.m.Training Room\n\n\n\n\nTuesday\, December 12\, 2023 \n\n\n\n\nTraining9:00 a.m. – 12:00 p.m.Training Room\n\n\n\n\n\n\nIf you have questions or concerns about specific documents you are dealing with locally such as writs\, summons\, ejectment procedures\, other court orders\, Fifa’s\, garnishments\, or others – bring a copy of the document(s) with you and we will discuss in detail the question and correct procedure. \n\n\n\n\n\n\n\n\nRegistration fee is $60. {Non-refundable after December 1\, 2023}\n\n\n\nYou must pre-register by completing this form.\n\n\n\nDeadline to register for this event is December 4.\n\n\n\nClass capacity is 70 students.\n\n\n\nA confirmation email will be sent to ther individual who completes the form.  A separate email is sent to the email address of the attendee.\n\n\n\n\n\n\n\n\n\n\n\n\nRegistration:\n\n\n\n\n\nTraining:\n\n\n\n\n\n\n\n\n\nVisit this site after December 1\, 2023 for final training details. Essential details may include a tentative agenda\, training materials\, registration/training times\, or other important information.
URL:https://georgiasheriffs.org/event/civil-process-seminar-2/
LOCATION:Georgia Sheriffs’ Association\, 1000 Sheriffs Way\, Madison\, GA\, 30650\, United States
CATEGORIES:Training
ORGANIZER;CN="Abby Pennington":MAILTO:apennington@georgiasheriffs.org
GEO:33.568375323607;-83.467374769346
X-APPLE-STRUCTURED-LOCATION;VALUE=URI;X-ADDRESS=Georgia Sheriffs’ Association 1000 Sheriffs Way Madison GA 30650 United States;X-APPLE-RADIUS=500;X-TITLE=1000 Sheriffs Way:geo:-83.467374769346,33.568375323607
END:VEVENT
BEGIN:VEVENT
DTSTART;TZID=America/New_York:20231206T080000
DTEND;TZID=America/New_York:20231207T170000
DTSTAMP:20260420T031728
CREATED:20231031T185120Z
LAST-MODIFIED:20240708T175851Z
UID:10000248-1701849600-1701968400@georgiasheriffs.org
SUMMARY:Courthouse Security Training Seminar
DESCRIPTION:Court Security SeminarLodgingRegistrationSchedule of EventsClass RequirementsContact UsFinal Details\n\nCourthouses are vulnerable to acts of random violence; therefore\, they must have proper court security procedures to protect the safety of the people and property within and around the courts and preserve the integrity of the judicial process.  Court security deputies must be fully prepared to respond appropriately to violent incidents.  This year’s 11-hour court security seminar will focus on the updated standards for Court Security and judicial protection.  There is a $50 registration fee for this class. \n\n\n\nClass size is limited to 70 students \n\n\n\n\n\n\n\nThe GSA will NOT reserve a block of rooms for students for this event.  Suggested hotel accomodations are: \n\n\n\nHoliday Inn Express1041 Ramada LandMadison\, GA 30650706-342-9190James Madison Inn260 W. Washington St.Madison\, GA 30650706-342-7040Hampton Inn2021 Eatonton RdMadison\, GA 30650706-342-9003\n\n\n\n***You must present your tax-exempt forms to the hotel at check-in. \n\n\n\n\n\n\n\n\nYou must pre-register by completing the online registration form below.\n\n\n\nRegistration deadline is December 1\, 2023.\n\n\n\nA registration confirmation email will be sent to the person filling out this form and a separate email will be sent the email address of the attendee.\n\n\n\nRegistration fees are non-refundable for cancellations made 10 days or less prior to the start date of the training event.\n\n\n\n\n\n\n\n\n\n\n\n\nWednesday\, December 6\, 2023 \n\n\n\nRegistration8:00 a.m. – 8:30 a.m.Training8:30 a.m. – 11:30 a.m.Lunch11:30 a.m. – 1:00 p.m.Training1:00 p.m. – 5:00 p.m.\n\n\n\nThursday\, December 7\, 2023 \n\n\n\nTraining8:30 a.m. – 12:30 p.m.\n\n\n\n\n\nNone. \n\n\n\n\n\nRegistration\n\n\n\n\n\nTraining\n\n\n\n\n\n\n\nVisit this page after December 1st for additional information.
URL:https://georgiasheriffs.org/event/courthouse-security-training-seminar/
LOCATION:Georgia Sheriffs’ Association\, 1000 Sheriffs Way\, Madison\, GA\, 30650\, United States
CATEGORIES:Training
ORGANIZER;CN="Abby Pennington":MAILTO:apennington@georgiasheriffs.org
GEO:33.568375323607;-83.467374769346
X-APPLE-STRUCTURED-LOCATION;VALUE=URI;X-ADDRESS=Georgia Sheriffs’ Association 1000 Sheriffs Way Madison GA 30650 United States;X-APPLE-RADIUS=500;X-TITLE=1000 Sheriffs Way:geo:-83.467374769346,33.568375323607
END:VEVENT
BEGIN:VEVENT
DTSTART;TZID=America/New_York:20230614T100000
DTEND;TZID=America/New_York:20230614T113000
DTSTAMP:20260420T031728
CREATED:20230511T160515Z
LAST-MODIFIED:20240708T175915Z
UID:10000135-1686736800-1686742200@georgiasheriffs.org
SUMMARY:2023 Secondary Metals Recycling Training
DESCRIPTION:Secondary Metals Recycling TrainingLodgingSchedule of EventsRegistrationContact UsFinal Training Details\n\nLimited seats – Admittance to the class will be on a first come\, first serve basis. \n\n\n\nThe Georgia Sheriffs’ Association will conduct a specialized training class on the changes to the Secondary Metals Recycler law (SB 60). \n\n\n\nThis will be a joint training conducted by Sheriffs’ Association Staff and members of the Secondary Metals Industry. \n\n\n\n\n\nSpace is limited; register early. \n\n\n\n\n\nThe GSA will NOT reserve a block of rooms for students for this event. Suggested hotel accommodations are: \n\n\n\nJames Madison Inn260 W. Washington StreetMadison\, GA 30650706-342-7040Holiday Inn Express1041 Ramada LaneMadison\, GA 30650706-342-9190Hampton Inn2012 Eatonton RoadMadison\, GA 30650706-342-9003\n\n\n\nPlease check your confirmation to ensure you have the correct check-in and check-out date.  If claiming tax-exempt status\, provide your tax-exempt form to the hotel at check-in. \n\n\n\n\n\nWednesday\, June 14\, 2023 \n\n\n\n\nTraining: 10:00 a.m. – 11:30 a.m.\n\n\n\nLunch: 11:30 a.m. lunch will be provided\n\n\n\n\n\n\n\nYou must pre-register by completing this on-line registration form below.\n\n\n\nThe confirmation email is only received by the email address of the individual completing this form. If you are not the attendee please forward the confirmation email to the attendee.\n\n\n\n\n\n\n\n\n\n\n\n\nRegistration \n\n\n\n\n\nLodging: \n\n\n\n\n\nTraining: \n\n\n\n\n\n\n\n\n\n\nDress: Business – casual dress is welcome\, unless your agency requires you to wear your uniform; just remember you are representing your sheriff’s office. You may want to bring a jacket in case the classroom is chilly.
URL:https://georgiasheriffs.org/event/2023-secondary-metals-recycling-training/
LOCATION:Georgia Sheriffs’ Association\, 1000 Sheriffs Way\, Madison\, GA\, 30650\, United States
CATEGORIES:Training
GEO:33.568375323607;-83.467374769346
X-APPLE-STRUCTURED-LOCATION;VALUE=URI;X-ADDRESS=Georgia Sheriffs’ Association 1000 Sheriffs Way Madison GA 30650 United States;X-APPLE-RADIUS=500;X-TITLE=1000 Sheriffs Way:geo:-83.467374769346,33.568375323607
END:VEVENT
BEGIN:VEVENT
DTSTART;TZID=America/New_York:20230510T073000
DTEND;TZID=America/New_York:20230510T120000
DTSTAMP:20260420T031728
CREATED:20230329T155127Z
LAST-MODIFIED:20240708T175917Z
UID:10000131-1683703800-1683720000@georgiasheriffs.org
SUMMARY:Open Records Training Seminar
DESCRIPTION:Open RecordsLodgingSchedule of EventsRegistrationContact UsFinal Registration Details\n\nPursuant to the Georgia Open Records Law\, all state\, county\, and municipal records\, except those specifically exempted from being open to inspection by the general public\, shall be open for a personal inspection by any citizen of this state at a reasonable time and place. It is those records not subject to public disclosure or portions of records that must be redacted that raises questions. It is critical that law enforcement be as well informed as possible regarding the laws governing the access of the public to the information that government has. \n\n\n\nDue to the overwhelming requests for training on this topic\, GSA is offering an Open Records for Law Enforcement training. Presented by Cheryl Payton with the Georgia Bureau of Investigation\, this approximate 4-hour class is scheduled for May 10\, 2023. Each student will receive a copy of the 2014 edition of Georgia Law Enforcement and the Open Records Act “blue book”. \n\n\n\nThere is no registration fee for this class. The class is limited to 68 students. Please register early. \n\n\n\nRegistration deadline: April 26\, 2023 \n\n\n\nThe location for this training is: \n\n\n\n\n\n\n\nThe GSA will NOT reserve a block of rooms for students for this event. However\, if you need lodging\, you may consider these area hotels for accommodations Hotel Accommodations must be sought by the student\, requesting the hotel’s government rate. Recommended hotels are: \n\n\n\nHoliday Inn Express1041 Ramada LandMadison\, GA 30650706-342-9190Government Rate $121The James Madison Inn2160 W Washington StMadison\, GA 30650706-342-7040*Call for pricing – mention Law Enforcement Training at the GSAHampton Inn2021 Eatonton RoadMadison\, GA 30650706-342-9003Government Rate $96\n\n\n\n\n\nWednesday\, May 10 at: Georgia Sheriffs’ Association \n\n\n\n\nRegistration7:30 a.m. – 8:00 a.m.\n\n\n\nTraining8:00 a.m. – 12:00 p.m.\n\n\n\n\n\n\n\nYou must pre-register by completing the on-line registration form.\n\n\n\nRegistration deadline is April 26\, 2023\n\n\n\n\n\n\n\n\n\n\n\n\nRegistration\n\n\n\n\n\nTraining\n\n\n\n\n\n\n\nVisit this site after May 5th for final training details.  Essential details may include a tentative agenda\, training materials\, changes to class location or registration/training times\, or other important information.
URL:https://georgiasheriffs.org/event/open-records-training-seminar/
LOCATION:Georgia Sheriffs’ Association\, 1000 Sheriffs Way\, Madison\, GA\, 30650\, United States
CATEGORIES:Local & State,Training
GEO:33.568375323607;-83.467374769346
X-APPLE-STRUCTURED-LOCATION;VALUE=URI;X-ADDRESS=Georgia Sheriffs’ Association 1000 Sheriffs Way Madison GA 30650 United States;X-APPLE-RADIUS=500;X-TITLE=1000 Sheriffs Way:geo:-83.467374769346,33.568375323607
END:VEVENT
BEGIN:VEVENT
DTSTART;TZID=America/New_York:20230412T080000
DTEND;TZID=America/New_York:20230413T160000
DTSTAMP:20260420T031728
CREATED:20230228T182931Z
LAST-MODIFIED:20240708T175921Z
UID:10000112-1681286400-1681401600@georgiasheriffs.org
SUMMARY:2023 Sex Offender Registry: The Basics
DESCRIPTION:SOR: The BasicsLodgingSchedule of EventsClass RequirementRegistrationContact UsFinal Conference Details\n\nThe Office of Sheriff is mandated by law to register sex offenders. This complicated process requires specialized training to effectively enforce the sex offender registry statutes. Sheriff’s office personnel who are newly assigned to Sex Offender Registration and Enforcement\, have not received any formal training\, or feel they need a refresher on the basics\, are strongly encouraged to attend. This 14-hour course will cover the sex offender laws and basic registration & enforcement procedures. \n\n\n\n\n\nSpace is limited; register early.  Deadline to register: April 7\, 2023. \n\n\n\n\n\nThe GSA will NOT reserve a block of rooms for students for this event. Suggested hotel accommodations are: \n\n\n\nJames Madison Inn260 W. Washington StreetMadison\, GA 30650706-342-7040Holiday Inn Express1041 Ramada LaneMadison\, GA 30650706-342-9190Hampton Inn2012 Eatonton RoadMadison\, GA 30650706-342-9003\n\n\n\n\n\nWednesday\, April 12\, 2023 \n\n\n\n\nRegistration: 8:00 a.m. – 8:30 a.m. (Training Lobby)\n\n\n\nTraining: 8:30 a.m. – 4:00 p.m.\n\n\n\n\nThursday\, April 23\, 2023 \n\n\n\n\nTraining: 8:30 a.m. – 4:00 p.m.\n\n\n\n\n\n\nThis training includes an interactive session for attendees to enter test record information into the SORT database. It is recommended that each student: \n\n\n\n\nBring a laptop or tablet to the class and\n\n\n\nObtain a user ID and password for the SORT program and SSL VPN prior to the training from the GCIC website at http://gcicweb.gbi.state.ga.us\n\n\n\n\n\n\n\n\n\nRegistration Fee: $90 (Non-refundable fee covers cost of the current SOR Manual & flash drive containing class materials.)\n\n\n\nYou must pre-register by completing this on-line registration form below.\n\n\n\nRegistration Deadline: April 7\, 2023.\n\n\n\nThe confirmation email is only received by the email address of the individual completing this form. If you are not the attendee please forward the confirmation email to the attendee.\n\n\n\n\n\n\n\n\n\n\n\n\nRegistration \n\n\n\n\n\nLodging: \n\n\n\n\n\nTraining: \n\n\n\n\n\n\n\n\n\n*Note: The SOR Basic 101 training includes an interactive session for attendees to enter test record information into the SORT database. It is recommended that each student obtain a user id and password for the SORT program and SSL VPN prior to the training. Request forms for SORT and SSL VPN user id and passwords are available on the GCIC website at http://gcicweb.gbi.state.ga.us \n\n\n\n\nDress: Business – casual dress is welcome\, unless your agency requires you to wear your uniform; just remember you are representing your sheriff’s office. You may want to bring a jacket in case the classroom is chilly.
URL:https://georgiasheriffs.org/event/2023-sex-offender-registry-the-basics/
LOCATION:Georgia Sheriffs’ Association\, 1000 Sheriffs Way\, Madison\, GA\, 30650\, United States
ORGANIZER;CN="Brent Loeffler":MAILTO:bloeffler@georgiasheriffs.org
GEO:33.568375323607;-83.467374769346
X-APPLE-STRUCTURED-LOCATION;VALUE=URI;X-ADDRESS=Georgia Sheriffs’ Association 1000 Sheriffs Way Madison GA 30650 United States;X-APPLE-RADIUS=500;X-TITLE=1000 Sheriffs Way:geo:-83.467374769346,33.568375323607
END:VEVENT
BEGIN:VEVENT
DTSTART;TZID=America/New_York:20230124T080000
DTEND;TZID=America/New_York:20230125T120000
DTSTAMP:20260420T031728
CREATED:20221207T162330Z
LAST-MODIFIED:20240708T175932Z
UID:10000070-1674547200-1674648000@georgiasheriffs.org
SUMMARY:Civil Process Seminar
DESCRIPTION:2023 Civil Process SeminarLodgingSchedule of EventsClass RequirementsRegistrationContact UsFinal Conference Details\n\nThe Georgia Sheriffs’ Association Training Academy will conduct a Civil Process Seminar. The training will provide a working knowledge of civil process to include writs\, summons\, ejectment\, procedures\, and other court orders. Advanced topics will also include\, Fifa’s\, garnishments\, etc. Each student will receive a copy of the Georgia Sheriffs’ Association Civil Process Manual as part of this training. \n\n\n\nGeorgia Sheriffs’ Association Headquarters1000 Sheriffs Way (off the Madison Bypass)Madison\, Ga. 30650 \n\n\n\n\nWebsite\n\n\n\nGoogle Map\n\n\n\n\n\n\n\n\n\n\n\n\n\n\nThe GSA will NOT reserve a block of rooms for students for this event. Suggested hotel accommodations are: \n\n\n\nHoliday Inn Express1041 Ramada LandMadison\, Ga. 30650706-342-9190Government Rate $121Hampton Inn2021 Eatonton RoadMadison\, Ga. 30650706-342-9003Government Rate $96\n\n\n\n***You must present your tax-exempt forms to the hotel at check-in. \n\n\n\n\n\nTuesday\, January 24\, 2023 \n\n\n\n\nRegistration Onsite8:00 a.m. – 9:00 a.m.Training Room Lobby\n\n\n\nTraining9:00 a.m. – 5:00 p.m.Training Room\n\n\n\n\nWednesday\, January 25\, 2023 \n\n\n\n\nTraining9:00 a.m. – 12:00 p.m.Training Room\n\n\n\n\n\n\nIf you have questions or concerns about specific documents you are dealing with locally such as writs\, summons\, ejectment procedures\, other court orders\, Fifa’s\, garnishments\, or others – bring a copy of the document(s) with you and we will discuss in detail the question and correct procedure. \n\n\n\n\n\n\nRegistration fee is $60. {Non-refundable after January 13\, 2023}\n\n\n\nYou must pre-register by completing this form.\n\n\n\nDeadline to register for this event is January 13.\n\n\n\nClass capacity is 70 students.\n\n\n\nThe confirmation email is only received by the email address of the individual completing this form. If you are not the attendee please forward the confirmation email to the attendee.\n\n\n\n\n\n\n\n\n\n\n\n\nRegistration: \n\n\n\n\n\nTraining: \n\n\n\n\n\n\n\n\n\nVisit this site after January 16\, 2023 for final training details. Essential details may include a tentative agenda\, training materials\, registration/training times\, or other important information. \n\n\n\n\n\n\n\n\n.lodging {\n  \n  border-collapse: collapse;\n  width: 600px;\n}\n.lodging td\, .lodging tr {\n  \n}
URL:https://georgiasheriffs.org/event/civil-process-seminar/
LOCATION:Georgia Sheriffs’ Association\, 1000 Sheriffs Way\, Madison\, GA\, 30650\, United States
CATEGORIES:Training
ORGANIZER;CN="Missy Sammons":MAILTO:msammons@georgiasheriffs.org
GEO:33.568375323607;-83.467374769346
X-APPLE-STRUCTURED-LOCATION;VALUE=URI;X-ADDRESS=Georgia Sheriffs’ Association 1000 Sheriffs Way Madison GA 30650 United States;X-APPLE-RADIUS=500;X-TITLE=1000 Sheriffs Way:geo:-83.467374769346,33.568375323607
END:VEVENT
END:VCALENDAR